Package: specL Version: 1.40.0 Command: /home/biocbuild/R/R/bin/R CMD build --keep-empty-dirs --no-resave-data specL StartedAt: 2025-02-04 03:13:28 -0000 (Tue, 04 Feb 2025) EndedAt: 2025-02-04 03:14:11 -0000 (Tue, 04 Feb 2025) EllapsedTime: 43.0 seconds RetCode: 0 Status: OK PackageFile: specL_1.40.0.tar.gz PackageFileSize: 1.579 MiB