Package: speckle Version: 1.6.0 Command: /Library/Frameworks/R.framework/Resources/bin/R CMD check --install=check:speckle.install-out.txt --library=/Library/Frameworks/R.framework/Resources/library --no-vignettes --timings speckle_1.6.0.tar.gz StartedAt: 2025-02-05 11:15:08 -0500 (Wed, 05 Feb 2025) EndedAt: 2025-02-05 11:19:59 -0500 (Wed, 05 Feb 2025) EllapsedTime: 290.9 seconds RetCode: 0 Status: OK CheckDir: speckle.Rcheck Warnings: 0