Package: speckle Version: 1.6.0 Command: /Library/Frameworks/R.framework/Resources/bin/R CMD INSTALL speckle StartedAt: 2025-02-03 16:21:00 -0500 (Mon, 03 Feb 2025) EndedAt: 2025-02-03 16:22:18 -0500 (Mon, 03 Feb 2025) EllapsedTime: 78.0 seconds RetCode: 0 Status: OK