Package: speckle Version: 1.6.0 Command: rm -rf speckle.buildbin-libdir && mkdir speckle.buildbin-libdir && F:\biocbuild\bbs-3.20-bioc\R\bin\R.exe CMD INSTALL --build --library=speckle.buildbin-libdir speckle_1.6.0.tar.gz StartedAt: 2025-02-04 09:35:14 -0500 (Tue, 04 Feb 2025) EndedAt: 2025-02-04 09:36:01 -0500 (Tue, 04 Feb 2025) EllapsedTime: 46.3 seconds RetCode: 0 Status: OK PackageFile: speckle_1.6.0.zip PackageFileSize: 582.9 KiB