Package: speckle Version: 1.6.0 Command: chmod a+r speckle -R && F:\biocbuild\bbs-3.20-bioc\R\bin\R.exe CMD build --keep-empty-dirs --no-resave-data speckle StartedAt: 2025-02-03 22:19:58 -0500 (Mon, 03 Feb 2025) EndedAt: 2025-02-03 22:21:56 -0500 (Mon, 03 Feb 2025) EllapsedTime: 118.0 seconds RetCode: 0 Status: OK PackageFile: speckle_1.6.0.tar.gz PackageFileSize: 559.2 KiB