Package: speckle Version: 1.6.0 Command: F:\biocbuild\bbs-3.20-bioc\R\bin\R.exe CMD check --no-multiarch --install=check:speckle.install-out.txt --library=F:\biocbuild\bbs-3.20-bioc\R\library --no-vignettes --timings speckle_1.6.0.tar.gz StartedAt: 2025-02-04 06:34:17 -0500 (Tue, 04 Feb 2025) EndedAt: 2025-02-04 06:39:28 -0500 (Tue, 04 Feb 2025) EllapsedTime: 310.9 seconds RetCode: 0 Status: OK CheckDir: speckle.Rcheck Warnings: 0