Package: speckle Version: 1.6.0 Command: /home/biocbuild/R/R/bin/R CMD INSTALL speckle StartedAt: 2025-02-03 21:06:26 -0000 (Mon, 03 Feb 2025) EndedAt: 2025-02-03 21:07:12 -0000 (Mon, 03 Feb 2025) EllapsedTime: 46.0 seconds RetCode: 0 Status: OK