Package: spicyR Version: 1.18.0 Command: rm -rf spicyR.buildbin-libdir && mkdir spicyR.buildbin-libdir && /Users/biocbuild/BBS/utils/build-universal.sh spicyR_1.18.0.tar.gz /Library/Frameworks/R.framework/Resources/bin/R spicyR.buildbin-libdir StartedAt: 2025-02-12 17:11:12 -0500 (Wed, 12 Feb 2025) EndedAt: 2025-02-12 17:12:00 -0500 (Wed, 12 Feb 2025) EllapsedTime: 47.8 seconds RetCode: 0 Status: OK PackageFile: spicyR_1.18.0.tgz PackageFileSize: 3.784 MiB