Package: spicyR Version: 1.18.0 Command: /Library/Frameworks/R.framework/Resources/bin/R CMD build --keep-empty-dirs --no-resave-data spicyR StartedAt: 2025-02-04 08:57:04 -0500 (Tue, 04 Feb 2025) EndedAt: 2025-02-04 09:02:41 -0500 (Tue, 04 Feb 2025) EllapsedTime: 337.6 seconds RetCode: 0 Status: OK PackageFile: spicyR_1.18.0.tar.gz PackageFileSize: 3.277 MiB