Package: spicyR Version: 1.18.0 Command: /Library/Frameworks/R.framework/Resources/bin/R CMD check --install=check:spicyR.install-out.txt --library=/Library/Frameworks/R.framework/Resources/library --no-vignettes --timings spicyR_1.18.0.tar.gz StartedAt: 2025-02-12 10:38:19 -0500 (Wed, 12 Feb 2025) EndedAt: 2025-02-12 10:44:31 -0500 (Wed, 12 Feb 2025) EllapsedTime: 372.8 seconds RetCode: 0 Status: OK CheckDir: spicyR.Rcheck Warnings: 0