Package: spicyR Version: 1.18.0 Command: /Library/Frameworks/R.framework/Resources/bin/R CMD INSTALL spicyR StartedAt: 2025-02-03 16:47:59 -0500 (Mon, 03 Feb 2025) EndedAt: 2025-02-03 16:49:18 -0500 (Mon, 03 Feb 2025) EllapsedTime: 79.1 seconds RetCode: 0 Status: OK