Package: spicyR Version: 1.18.0 Command: /home/biocbuild/bbs-3.20-bioc/R/bin/R CMD INSTALL spicyR StartedAt: 2025-02-10 16:02:29 -0500 (Mon, 10 Feb 2025) EndedAt: 2025-02-10 16:03:04 -0500 (Mon, 10 Feb 2025) EllapsedTime: 35.0 seconds RetCode: 0 Status: OK