Package: spicyR Version: 1.18.0 Command: rm -rf spicyR.buildbin-libdir && mkdir spicyR.buildbin-libdir && F:\biocbuild\bbs-3.20-bioc\R\bin\R.exe CMD INSTALL --build --library=spicyR.buildbin-libdir spicyR_1.18.0.tar.gz StartedAt: 2025-02-04 09:35:39 -0500 (Tue, 04 Feb 2025) EndedAt: 2025-02-04 09:36:33 -0500 (Tue, 04 Feb 2025) EllapsedTime: 53.8 seconds RetCode: 0 Status: OK PackageFile: spicyR_1.18.0.zip PackageFileSize: 3.068 MiB