Package: spicyR Version: 1.18.0 Command: F:\biocbuild\bbs-3.20-bioc\R\bin\R.exe CMD INSTALL spicyR StartedAt: 2025-02-10 17:04:15 -0500 (Mon, 10 Feb 2025) EndedAt: 2025-02-10 17:05:02 -0500 (Mon, 10 Feb 2025) EllapsedTime: 46.7 seconds RetCode: 0 Status: OK