############################################################################## ############################################################################## ### ### Running command: ### ### /home/biocbuild/R/R/bin/R CMD build --keep-empty-dirs --no-resave-data spicyR ### ############################################################################## ############################################################################## * checking for file ‘spicyR/DESCRIPTION’ ... OK * preparing ‘spicyR’: * checking DESCRIPTION meta-information ... OK * installing the package to build vignettes ----------------------------------- ERROR: dependency ‘concaveman’ is not available for package ‘spicyR’ * removing ‘/home/biocbuild/tmp/RtmpXHAXdf/Rinst1321f32f021273/spicyR’ ----------------------------------- ERROR: package installation failed