Package: spiky Version: 1.12.0 Command: rm -rf spiky.buildbin-libdir && mkdir spiky.buildbin-libdir && /Users/biocbuild/BBS/utils/build-universal.sh spiky_1.12.0.tar.gz /Library/Frameworks/R.framework/Resources/bin/R spiky.buildbin-libdir StartedAt: 2025-02-01 17:02:16 -0500 (Sat, 01 Feb 2025) EndedAt: 2025-02-01 17:03:11 -0500 (Sat, 01 Feb 2025) EllapsedTime: 55.6 seconds RetCode: 0 Status: OK PackageFile: spiky_1.12.0.tgz PackageFileSize: 15.34 MiB