Package: spiky Version: 1.12.0 Command: /Library/Frameworks/R.framework/Resources/bin/R CMD INSTALL spiky StartedAt: 2025-01-30 17:18:35 -0500 (Thu, 30 Jan 2025) EndedAt: 2025-01-30 17:19:26 -0500 (Thu, 30 Jan 2025) EllapsedTime: 50.2 seconds RetCode: 0 Status: OK