Package: spiky Version: 1.12.0 Command: /home/biocbuild/R/R/bin/R CMD INSTALL spiky StartedAt: 2025-02-03 21:05:47 -0000 (Mon, 03 Feb 2025) EndedAt: 2025-02-03 21:06:36 -0000 (Mon, 03 Feb 2025) EllapsedTime: 49.1 seconds RetCode: 0 Status: OK