Package: spillR Version: 1.2.0 Command: /Library/Frameworks/R.framework/Resources/bin/R CMD build --keep-empty-dirs --no-resave-data spillR StartedAt: 2025-02-11 08:53:36 -0500 (Tue, 11 Feb 2025) EndedAt: 2025-02-11 08:56:05 -0500 (Tue, 11 Feb 2025) EllapsedTime: 148.9 seconds RetCode: 0 Status: OK PackageFile: spillR_1.2.0.tar.gz PackageFileSize: 567.6 KiB