Package: spillR Version: 1.2.0 Command: /Library/Frameworks/R.framework/Resources/bin/R CMD INSTALL spillR StartedAt: 2025-02-03 18:12:39 -0500 (Mon, 03 Feb 2025) EndedAt: 2025-02-03 18:13:16 -0500 (Mon, 03 Feb 2025) EllapsedTime: 37.0 seconds RetCode: 0 Status: OK