Package: spillR Version: 1.2.0 Command: rm -rf spillR.buildbin-libdir && mkdir spillR.buildbin-libdir && /Users/biocbuild/BBS/utils/build-universal.sh spillR_1.2.0.tar.gz /Library/Frameworks/R.framework/Resources/bin/R spillR.buildbin-libdir StartedAt: 2025-01-31 13:46:55 -0500 (Fri, 31 Jan 2025) EndedAt: 2025-01-31 13:48:04 -0500 (Fri, 31 Jan 2025) EllapsedTime: 69.5 seconds RetCode: 0 Status: OK PackageFile: spillR_1.2.0.tgz PackageFileSize: 574 KiB