Package: spillR Version: 1.2.0 Command: rm -rf spillR.buildbin-libdir && mkdir spillR.buildbin-libdir && F:\biocbuild\bbs-3.20-bioc\R\bin\R.exe CMD INSTALL --build --library=spillR.buildbin-libdir spillR_1.2.0.tar.gz StartedAt: 2025-02-11 09:34:24 -0500 (Tue, 11 Feb 2025) EndedAt: 2025-02-11 09:35:02 -0500 (Tue, 11 Feb 2025) EllapsedTime: 37.3 seconds RetCode: 0 Status: OK PackageFile: spillR_1.2.0.zip PackageFileSize: 312.5 KiB