Package: spillR Version: 1.2.0 Command: chmod a+r spillR -R && F:\biocbuild\bbs-3.20-bioc\R\bin\R.exe CMD build --keep-empty-dirs --no-resave-data spillR StartedAt: 2025-02-10 22:16:21 -0500 (Mon, 10 Feb 2025) EndedAt: 2025-02-10 22:19:20 -0500 (Mon, 10 Feb 2025) EllapsedTime: 178.8 seconds RetCode: 0 Status: OK PackageFile: spillR_1.2.0.tar.gz PackageFileSize: 296.7 KiB