Package: spillR Version: 1.2.0 Command: /home/biocbuild/R/R/bin/R CMD INSTALL spillR StartedAt: 2025-02-10 21:08:26 -0000 (Mon, 10 Feb 2025) EndedAt: 2025-02-10 21:09:06 -0000 (Mon, 10 Feb 2025) EllapsedTime: 40.1 seconds RetCode: 0 Status: OK