Package: splatter Version: 1.30.0 Command: /Library/Frameworks/R.framework/Resources/bin/R CMD INSTALL splatter StartedAt: 2025-02-03 16:19:29 -0500 (Mon, 03 Feb 2025) EndedAt: 2025-02-03 16:20:35 -0500 (Mon, 03 Feb 2025) EllapsedTime: 66.2 seconds RetCode: 0 Status: OK