Package: splatter Version: 1.30.0 Command: /home/biocbuild/bbs-3.20-bioc/R/bin/R CMD INSTALL splatter StartedAt: 2025-02-03 15:51:23 -0500 (Mon, 03 Feb 2025) EndedAt: 2025-02-03 15:51:53 -0500 (Mon, 03 Feb 2025) EllapsedTime: 29.3 seconds RetCode: 0 Status: OK