Package: splatter Version: 1.30.0 Command: rm -rf splatter.buildbin-libdir && mkdir splatter.buildbin-libdir && F:\biocbuild\bbs-3.20-bioc\R\bin\R.exe CMD INSTALL --build --library=splatter.buildbin-libdir splatter_1.30.0.tar.gz StartedAt: 2025-02-04 09:35:53 -0500 (Tue, 04 Feb 2025) EndedAt: 2025-02-04 09:36:53 -0500 (Tue, 04 Feb 2025) EllapsedTime: 60.1 seconds RetCode: 0 Status: OK PackageFile: splatter_1.30.0.zip PackageFileSize: 3.388 MiB