Package: splatter Version: 1.30.0 Command: /home/biocbuild/R/R/bin/R CMD build --keep-empty-dirs --no-resave-data splatter StartedAt: 2025-02-04 03:14:53 -0000 (Tue, 04 Feb 2025) EndedAt: 2025-02-04 03:20:05 -0000 (Tue, 04 Feb 2025) EllapsedTime: 311.4 seconds RetCode: 0 Status: OK PackageFile: splatter_1.30.0.tar.gz PackageFileSize: 4.477 MiB