Package: splatter Version: 1.30.0 Command: /home/biocbuild/R/R/bin/R CMD check --install=check:splatter.install-out.txt --library=/home/biocbuild/R/R/site-library --no-vignettes --timings splatter_1.30.0.tar.gz StartedAt: 2025-02-04 11:21:19 -0000 (Tue, 04 Feb 2025) EndedAt: 2025-02-04 11:21:24 -0000 (Tue, 04 Feb 2025) EllapsedTime: 5.0 seconds RetCode: 1 Status: ERROR CheckDir: splatter.Rcheck Warnings: NA