Package: splineTimeR Version: 1.34.0 Command: rm -rf splineTimeR.buildbin-libdir && mkdir splineTimeR.buildbin-libdir && /Users/biocbuild/BBS/utils/build-universal.sh splineTimeR_1.34.0.tar.gz /Library/Frameworks/R.framework/Resources/bin/R splineTimeR.buildbin-libdir StartedAt: 2025-02-05 17:58:16 -0500 (Wed, 05 Feb 2025) EndedAt: 2025-02-05 17:58:36 -0500 (Wed, 05 Feb 2025) EllapsedTime: 20.5 seconds RetCode: 0 Status: OK PackageFile: splineTimeR_1.34.0.tgz PackageFileSize: 1.266 MiB