Package: splineTimeR Version: 1.34.0 Command: /Library/Frameworks/R.framework/Resources/bin/R CMD build --keep-empty-dirs --no-resave-data splineTimeR StartedAt: 2025-02-04 09:02:41 -0500 (Tue, 04 Feb 2025) EndedAt: 2025-02-04 09:03:39 -0500 (Tue, 04 Feb 2025) EllapsedTime: 57.8 seconds RetCode: 0 Status: OK PackageFile: splineTimeR_1.34.0.tar.gz PackageFileSize: 1.225 MiB