Package: splineTimeR Version: 1.34.0 Command: /Library/Frameworks/R.framework/Resources/bin/R CMD build --keep-empty-dirs --no-resave-data splineTimeR StartedAt: 2025-01-30 23:09:16 -0500 (Thu, 30 Jan 2025) EndedAt: 2025-01-30 23:10:43 -0500 (Thu, 30 Jan 2025) EllapsedTime: 87.6 seconds RetCode: 0 Status: OK PackageFile: splineTimeR_1.34.0.tar.gz PackageFileSize: 1.225 MiB