Package: splineTimeR Version: 1.34.0 Command: /Library/Frameworks/R.framework/Resources/bin/R CMD check --install=check:splineTimeR.install-out.txt --library=/Library/Frameworks/R.framework/Resources/library --no-vignettes --timings splineTimeR_1.34.0.tar.gz StartedAt: 2025-02-04 10:41:19 -0500 (Tue, 04 Feb 2025) EndedAt: 2025-02-04 10:46:09 -0500 (Tue, 04 Feb 2025) EllapsedTime: 289.9 seconds RetCode: 0 Status: OK CheckDir: splineTimeR.Rcheck Warnings: 0