Package: splineTimeR Version: 1.34.0 Command: /home/biocbuild/bbs-3.20-bioc/R/bin/R CMD check --install=check:splineTimeR.install-out.txt --library=/home/biocbuild/bbs-3.20-bioc/R/site-library --timings splineTimeR_1.34.0.tar.gz StartedAt: 2025-02-04 02:49:59 -0500 (Tue, 04 Feb 2025) EndedAt: 2025-02-04 02:52:32 -0500 (Tue, 04 Feb 2025) EllapsedTime: 153.2 seconds RetCode: 0 Status: OK CheckDir: splineTimeR.Rcheck Warnings: 0