Package: splineTimeR Version: 1.34.0 Command: chmod a+r splineTimeR -R && F:\biocbuild\bbs-3.20-bioc\R\bin\R.exe CMD build --keep-empty-dirs --no-resave-data splineTimeR StartedAt: 2025-02-10 22:17:02 -0500 (Mon, 10 Feb 2025) EndedAt: 2025-02-10 22:18:03 -0500 (Mon, 10 Feb 2025) EllapsedTime: 61.4 seconds RetCode: 0 Status: OK PackageFile: splineTimeR_1.34.0.tar.gz PackageFileSize: 1.102 MiB