Package: splots Version: 1.72.0 Command: /Library/Frameworks/R.framework/Resources/bin/R CMD build --keep-empty-dirs --no-resave-data splots StartedAt: 2025-01-30 23:09:38 -0500 (Thu, 30 Jan 2025) EndedAt: 2025-01-30 23:10:59 -0500 (Thu, 30 Jan 2025) EllapsedTime: 80.2 seconds RetCode: 0 Status: OK PackageFile: splots_1.72.0.tar.gz PackageFileSize: 705.7 KiB