Package: splots Version: 1.72.0 Command: /Library/Frameworks/R.framework/Resources/bin/R CMD INSTALL splots StartedAt: 2025-02-03 15:14:55 -0500 (Mon, 03 Feb 2025) EndedAt: 2025-02-03 15:15:12 -0500 (Mon, 03 Feb 2025) EllapsedTime: 16.9 seconds RetCode: 0 Status: OK