Package: splots Version: 1.72.0 Command: /home/biocbuild/bbs-3.20-bioc/R/bin/R CMD build --keep-empty-dirs --no-resave-data --md5 splots StartedAt: 2025-01-30 19:18:51 -0500 (Thu, 30 Jan 2025) EndedAt: 2025-01-30 19:19:44 -0500 (Thu, 30 Jan 2025) EllapsedTime: 53.0 seconds RetCode: 0 Status: OK PackageFile: splots_1.72.0.tar.gz PackageFileSize: 669.8 KiB