Package: splots Version: 1.72.0 Command: /home/biocbuild/bbs-3.20-bioc/R/bin/R CMD INSTALL splots StartedAt: 2025-02-03 15:15:15 -0500 (Mon, 03 Feb 2025) EndedAt: 2025-02-03 15:15:24 -0500 (Mon, 03 Feb 2025) EllapsedTime: 8.6 seconds RetCode: 0 Status: OK