Package: splots Version: 1.72.0 Command: chmod a+r splots -R && F:\biocbuild\bbs-3.20-bioc\R\bin\R.exe CMD build --keep-empty-dirs --no-resave-data splots StartedAt: 2025-02-03 22:22:23 -0500 (Mon, 03 Feb 2025) EndedAt: 2025-02-03 22:23:19 -0500 (Mon, 03 Feb 2025) EllapsedTime: 55.6 seconds RetCode: 0 Status: OK PackageFile: splots_1.72.0.tar.gz PackageFileSize: 482.5 KiB