Package: splots Version: 1.72.0 Command: /home/biocbuild/R/R/bin/R CMD INSTALL splots StartedAt: 2025-02-03 20:23:48 -0000 (Mon, 03 Feb 2025) EndedAt: 2025-02-03 20:24:13 -0000 (Mon, 03 Feb 2025) EllapsedTime: 24.9 seconds RetCode: 0 Status: OK