Package: sscu Version: 2.36.0 Command: /Library/Frameworks/R.framework/Resources/bin/R CMD check --install=check:sscu.install-out.txt --library=/Library/Frameworks/R.framework/Resources/library --no-vignettes --timings sscu_2.36.0.tar.gz StartedAt: 2025-02-05 11:47:26 -0500 (Wed, 05 Feb 2025) EndedAt: 2025-02-05 11:49:15 -0500 (Wed, 05 Feb 2025) EllapsedTime: 108.3 seconds RetCode: 0 Status: WARNINGS CheckDir: sscu.Rcheck Warnings: 1