Package: sscu Version: 2.36.0 Command: /Library/Frameworks/R.framework/Resources/bin/R CMD INSTALL sscu StartedAt: 2025-02-03 15:25:44 -0500 (Mon, 03 Feb 2025) EndedAt: 2025-02-03 15:25:56 -0500 (Mon, 03 Feb 2025) EllapsedTime: 11.6 seconds RetCode: 0 Status: OK