Package: sscu Version: 2.36.0 Command: /home/biocbuild/bbs-3.20-bioc/R/bin/R CMD INSTALL sscu StartedAt: 2025-02-03 15:19:23 -0500 (Mon, 03 Feb 2025) EndedAt: 2025-02-03 15:19:32 -0500 (Mon, 03 Feb 2025) EllapsedTime: 9.5 seconds RetCode: 0 Status: OK