Package: sscu Version: 2.36.0 Command: F:\biocbuild\bbs-3.20-bioc\R\bin\R.exe CMD check --no-multiarch --install=check:sscu.install-out.txt --library=F:\biocbuild\bbs-3.20-bioc\R\library --no-vignettes --timings sscu_2.36.0.tar.gz StartedAt: 2025-02-04 06:44:49 -0500 (Tue, 04 Feb 2025) EndedAt: 2025-02-04 06:46:42 -0500 (Tue, 04 Feb 2025) EllapsedTime: 112.7 seconds RetCode: 0 Status: WARNINGS CheckDir: sscu.Rcheck Warnings: 1