Package: ssrch Version: 1.22.0 Command: /Library/Frameworks/R.framework/Resources/bin/R CMD INSTALL ssrch StartedAt: 2025-02-10 16:43:01 -0500 (Mon, 10 Feb 2025) EndedAt: 2025-02-10 16:43:07 -0500 (Mon, 10 Feb 2025) EllapsedTime: 5.4 seconds RetCode: 0 Status: OK