Package: ssrch Version: 1.22.0 Command: /Library/Frameworks/R.framework/Resources/bin/R CMD build --keep-empty-dirs --no-resave-data ssrch StartedAt: 2025-02-10 22:43:11 -0500 (Mon, 10 Feb 2025) EndedAt: 2025-02-10 22:43:32 -0500 (Mon, 10 Feb 2025) EllapsedTime: 21.1 seconds RetCode: 0 Status: OK PackageFile: ssrch_1.22.0.tar.gz PackageFileSize: 1.444 MiB