Package: ssrch Version: 1.22.0 Command: /Library/Frameworks/R.framework/Resources/bin/R CMD check --install=check:ssrch.install-out.txt --library=/Library/Frameworks/R.framework/Resources/library --no-vignettes --timings ssrch_1.22.0.tar.gz StartedAt: 2025-02-11 11:07:22 -0500 (Tue, 11 Feb 2025) EndedAt: 2025-02-11 11:08:28 -0500 (Tue, 11 Feb 2025) EllapsedTime: 65.7 seconds RetCode: 0 Status: OK CheckDir: ssrch.Rcheck Warnings: 0