Package: ssrch Version: 1.22.0 Command: rm -rf ssrch.buildbin-libdir && mkdir ssrch.buildbin-libdir && F:\biocbuild\bbs-3.20-bioc\R\bin\R.exe CMD INSTALL --build --library=ssrch.buildbin-libdir ssrch_1.22.0.tar.gz StartedAt: 2025-02-04 09:37:07 -0500 (Tue, 04 Feb 2025) EndedAt: 2025-02-04 09:37:25 -0500 (Tue, 04 Feb 2025) EllapsedTime: 18.4 seconds RetCode: 0 Status: OK PackageFile: ssrch_1.22.0.zip PackageFileSize: 1.387 MiB