Package: ssrch Version: 1.22.0 Command: /home/biocbuild/R/R/bin/R CMD INSTALL ssrch StartedAt: 2025-02-10 20:41:53 -0000 (Mon, 10 Feb 2025) EndedAt: 2025-02-10 20:41:57 -0000 (Mon, 10 Feb 2025) EllapsedTime: 4.9 seconds RetCode: 0 Status: OK